BEGIN:VCALENDAR
VERSION:2.0
PRODID:-//Centre de Formation &Eacute;ducation en Petite Enfance.
CALSCALE:GREGORIAN
METHOD:PUBLISH
X-WR-CALNAME:Centre de Formation &Eacute;ducation en Petite Enfance.
X-ORIGINAL-URL:https://www.cfeducationpetiteenfance.com/product/apprendre-par-le-jeu-en-ligne-6h/
X-WR-CALDESC:Apprendre par le jeu en ligne 6h
BEGIN:VEVENT
DTSTART:
DTEND:
SUMMARY:Apprendre par le jeu en ligne 6h
DESCRIPTION:Ce cours approfondit la place du « jeu » dans l’apprentissage de l’enfant. Il amène l’éducatrice à mieux comprendre le développement global de l’enfant en lien avec le jeu.
LOCATION:
END:VEVENT
END:VCALENDAR
