BEGIN:VCALENDAR
VERSION:2.0
PRODID:-//Centre de Formation &Eacute;ducation en Petite Enfance.
CALSCALE:GREGORIAN
METHOD:PUBLISH
X-WR-CALNAME:Centre de Formation &Eacute;ducation en Petite Enfance.
X-ORIGINAL-URL:https://www.cfeducationpetiteenfance.com/product/application-du-programme-educatif-11-fevrier-2023/
X-WR-CALDESC:Application du programme éducatif 11 février 2023
BEGIN:VEVENT
DTSTART:20230211T090000
DTEND:20230211T040000
SUMMARY:Application du programme éducatif 11 février 2023
DESCRIPTION:Ce cours permet la mise en application du programme éducatif du ministère en service de garde en milieu familial. Le cours «Programme éducatif» est une formation préalable requise.

&nbsp;
LOCATION:5452, 3ème avenue Montréal H2T 2W6 Qc Canada
END:VEVENT
END:VCALENDAR
