BEGIN:VCALENDAR
VERSION:2.0
PRODID:-//Centre de Formation &Eacute;ducation en Petite Enfance.
CALSCALE:GREGORIAN
METHOD:PUBLISH
X-WR-CALNAME:Centre de Formation &Eacute;ducation en Petite Enfance.
X-ORIGINAL-URL:https://www.cfeducationpetiteenfance.com/product/developpement-de-lenfant-de-0-12-ans-12-h-en-ligne/
X-WR-CALDESC:Développement de l&rsquo;enfant de 0-12 ans 12 h &#8211; en ligne
BEGIN:VEVENT
DTSTART:
DTEND:
SUMMARY:Développement de l&rsquo;enfant de 0-12 ans 12 h &#8211; en ligne
DESCRIPTION:Le développement de l'enfant de 0-12 ans 12h

Ce cours présente le développement de comportement, son évolution selon plusieurs théories Bowlby :  théorie de l'attachement; Wallon et Piaget théorie vision globale; Freud, la psychanalyse; Erikson la crise psychosociale, Skinner le béhaviorisme, Vygotsky le socioconstructivisme.
LOCATION:
END:VEVENT
END:VCALENDAR
