BEGIN:VCALENDAR
VERSION:2.0
PRODID:-//Centre de Formation &Eacute;ducation en Petite Enfance.
CALSCALE:GREGORIAN
METHOD:PUBLISH
X-WR-CALNAME:Centre de Formation &Eacute;ducation en Petite Enfance.
X-ORIGINAL-URL:https://www.cfeducationpetiteenfance.com/product/analyse-de-besoin-de-formations/
X-WR-CALDESC:Analyse de besoin de formations
BEGIN:VEVENT
DTSTART:
DTEND:
SUMMARY:Analyse de besoin de formations
DESCRIPTION:&nbsp;
<h4>L’analyse des besoins de formation permet de :</h4>
<ul>
 	<li>
<h4>Déterminer de manière l’objectif de formation;</h4>
</li>
 	<li>
<h4>Mettre l’accent sur l’essentiel les points à améliorer;</h4>
</li>
 	<li>
<h4>Répondre à la réalité du service;</h4>
</li>
 	<li>
<h4>Développer les compétences selon le groupe d’âge;</h4>
</li>
 	<li>
<h4>Vérifier les cause d’un manque de compétences : contexte, manque d’intérêt, manque de motivation, manque de ressources, manque d’aptitudes de bases ou autres facteurs.</h4>
</li>
</ul>
&nbsp;
LOCATION:
END:VEVENT
END:VCALENDAR
