BEGIN:VCALENDAR
VERSION:2.0
PRODID:-//Centre de Formation &Eacute;ducation en Petite Enfance.
CALSCALE:GREGORIAN
METHOD:PUBLISH
X-WR-CALNAME:Centre de Formation &Eacute;ducation en Petite Enfance.
X-ORIGINAL-URL:https://www.cfeducationpetiteenfance.com/product/jeu-jouer-plaisir-apprendre-jouant/
X-WR-CALDESC:Le jeu, jouer pour le plaisir et apprendre en jouant
BEGIN:VEVENT
DTSTART:
DTEND:
SUMMARY:Le jeu, jouer pour le plaisir et apprendre en jouant
DESCRIPTION:Ce livre décrit l'importance du jeu dans l'apprentissage de l'enfant. il présente différents  jeux et activités selon les différents aspects du développement de l'enfant et selon son âge.
LOCATION:
END:VEVENT
END:VCALENDAR
