BEGIN:VCALENDAR
VERSION:2.0
PRODID:-//Centre de Formation &Eacute;ducation en Petite Enfance.
CALSCALE:GREGORIAN
METHOD:PUBLISH
X-WR-CALNAME:Centre de Formation &Eacute;ducation en Petite Enfance.
X-ORIGINAL-URL:https://www.cfeducationpetiteenfance.com/product/programme-educatif-du-ministere-18h-en-ligne/
X-WR-CALDESC:Programme éducatif du ministère 18h &#8211; en ligne
BEGIN:VEVENT
DTSTART:
DTEND:
SUMMARY:Programme éducatif du ministère 18h &#8211; en ligne
DESCRIPTION:Connaitre, comprendre, démystifier le programme éducatif.

Ce cours fait partie de la formation RSG 45h
LOCATION:
END:VEVENT
END:VCALENDAR
