BEGIN:VCALENDAR
VERSION:2.0
PRODID:-//Centre de Formation &Eacute;ducation en Petite Enfance.
CALSCALE:GREGORIAN
METHOD:PUBLISH
X-WR-CALNAME:Centre de Formation &Eacute;ducation en Petite Enfance.
X-ORIGINAL-URL:https://www.cfeducationpetiteenfance.com/product/developpement-de-lenfant-12h-a-distance/
X-WR-CALDESC:Le développement de l&rsquo;enfant 12h &#8211; À distance
BEGIN:VEVENT
DTSTART:
DTEND:
SUMMARY:Le développement de l&rsquo;enfant 12h &#8211; À distance
DESCRIPTION:Parfaire ses connaissances sur le développement de l’enfant entre zéro et douze ans, les différentes recherches, les différentes approches;
Déchiffrer les principales théories du développement de l’enfant pour comprendre le comportement de l’enfant et mieux le guider.

Ce cours fait partie de la formation RSG 45h
LOCATION:
END:VEVENT
END:VCALENDAR
