BEGIN:VCALENDAR
VERSION:2.0
PRODID:-//Centre de Formation &Eacute;ducation en Petite Enfance.
CALSCALE:GREGORIAN
METHOD:PUBLISH
X-WR-CALNAME:Centre de Formation &Eacute;ducation en Petite Enfance.
X-ORIGINAL-URL:https://www.cfeducationpetiteenfance.com/product/programme-educatif-du-ministere-a-distance/
X-WR-CALDESC:Programme éducatif du ministère &#8211; À distance
BEGIN:VEVENT
DTSTART:
DTEND:
SUMMARY:Programme éducatif du ministère &#8211; À distance
DESCRIPTION:Ce cours présente les différents contenus du programme éducatif du ministère de la Famille: le cadre théorique, les principes de base, le développement global de l’enfant, la coopération avec les parents, l’intervention éducative, la structuration des lieux et des activités.
LOCATION:
END:VEVENT
END:VCALENDAR
