BEGIN:VCALENDAR
VERSION:2.0
PRODID:-//Centre de Formation &Eacute;ducation en Petite Enfance.
CALSCALE:GREGORIAN
METHOD:PUBLISH
X-WR-CALNAME:Centre de Formation &Eacute;ducation en Petite Enfance.
X-ORIGINAL-URL:https://www.cfeducationpetiteenfance.com/product/construire-une-valise-pedagogique-en-ligne/
X-WR-CALDESC:Construire une valise pédagogique &#8211; en ligne
BEGIN:VEVENT
DTSTART:
DTEND:
SUMMARY:Construire une valise pédagogique &#8211; en ligne
DESCRIPTION:Ce cours permet à la RSG d'élaborer <strong>des outils pédagogiques, du matériel didactique</strong> : jeux, livres, et différents médiums, pour soutenir et organiser des activités d'apprentissages.

&nbsp;
LOCATION:
END:VEVENT
END:VCALENDAR
