BEGIN:VCALENDAR
VERSION:2.0
PRODID:-//Centre de Formation &Eacute;ducation en Petite Enfance.
CALSCALE:GREGORIAN
METHOD:PUBLISH
X-WR-CALNAME:Centre de Formation &Eacute;ducation en Petite Enfance.
X-ORIGINAL-URL:https://www.cfeducationpetiteenfance.com/product/construction-de-valise-pedagogique-distance/
X-WR-CALDESC:Construction de valise pédagogique &#8211; À distance
BEGIN:VEVENT
DTSTART:
DTEND:
SUMMARY:Construction de valise pédagogique &#8211; À distance
DESCRIPTION:Ce cours permet à la RSG d’apprendre à élaborer une valise pédagogique, enrichir et varier le contenu. C’est la caverne d’Ali Baba.
LOCATION:
END:VEVENT
END:VCALENDAR
