BEGIN:VCALENDAR
VERSION:2.0
PRODID:-//Centre de Formation &Eacute;ducation en Petite Enfance.
CALSCALE:GREGORIAN
METHOD:PUBLISH
X-WR-CALNAME:Centre de Formation &Eacute;ducation en Petite Enfance.
X-ORIGINAL-URL:https://www.cfeducationpetiteenfance.com/product/elaboration-de-programme-educatif/
X-WR-CALDESC:Élaboration de programme éducatif
BEGIN:VEVENT
DTSTART:
DTEND:
SUMMARY:Élaboration de programme éducatif
DESCRIPTION:<strong>ÉLABORATION DU PROGRAMME ÉDUCATIF</strong>

<strong> </strong>

<strong>Les orientations générales et les approches éducatives de votre service de garde </strong>(Les orientations de votre programme éducatif doivent tenir compte des exigences prévues à l’article 5 de la Loi sur les services de garde éducatifs à l’enfance (chapitre S-4.1.1) (LSGEE).
<ul>
 	<li>La mission de votre service de garde</li>
 	<li>Vos valeurs éducatives</li>
 	<li>L’objectifs de votre programme éducatif</li>
 	<li>L ’approche ou les approches éducatives utilisées dans votre service de garde</li>
</ul>
LOCATION:
END:VEVENT
END:VCALENDAR
