BEGIN:VCALENDAR
VERSION:2.0
PRODID:-//Centre de Formation &Eacute;ducation en Petite Enfance.
CALSCALE:GREGORIAN
METHOD:PUBLISH
X-WR-CALNAME:Centre de Formation &Eacute;ducation en Petite Enfance.
X-ORIGINAL-URL:https://www.cfeducationpetiteenfance.com/product/conference-3-h/
X-WR-CALDESC:Conférence 3h
BEGIN:VEVENT
DTSTART:
DTEND:
SUMMARY:Conférence 3h
DESCRIPTION:<h4>Nous offrons des conférences sur divers thèmes:</h4>
<h4>Le marketing RSG</h4>
<h4>Application du programme éducatif</h4>
<h4>Observation</h4>
<h4>Autres thèmes  selon votre besoin</h4>
LOCATION:
END:VEVENT
END:VCALENDAR
