BEGIN:VCALENDAR
VERSION:2.0
PRODID:-//Centre de Formation &Eacute;ducation en Petite Enfance.
CALSCALE:GREGORIAN
METHOD:PUBLISH
X-WR-CALNAME:Centre de Formation &Eacute;ducation en Petite Enfance.
X-ORIGINAL-URL:https://www.cfeducationpetiteenfance.com/product/evaluation-des-activites-pedagogiques/
X-WR-CALDESC:Évaluation des activités pédagogiques
BEGIN:VEVENT
DTSTART:
DTEND:
SUMMARY:Évaluation des activités pédagogiques
DESCRIPTION:&nbsp;
<ul>
 	<li>
<h4>Objectifs pédagogiques</h4>
</li>
 	<li>
<h4>Recherches thématiques</h4>
</li>
 	<li>
<h4>Planification de la semaine</h4>
</li>
 	<li>
<h4>Organisation des différentes activités</h4>
</li>
 	<li>
<h4>Initiative</h4>
</li>
 	<li>
<h4>Interventions démocratiques</h4>
</li>
</ul>
LOCATION:
END:VEVENT
END:VCALENDAR
