BEGIN:VCALENDAR
VERSION:2.0
PRODID:-//Centre de Formation &Eacute;ducation en Petite Enfance.
CALSCALE:GREGORIAN
METHOD:PUBLISH
X-WR-CALNAME:Centre de Formation &Eacute;ducation en Petite Enfance.
X-ORIGINAL-URL:https://www.cfeducationpetiteenfance.com/product/la-science-est-un-jeu-denfant-6-h-novembre-2017/
X-WR-CALDESC:La science est un jeu d’enfant (6h) &#8211; Nov. 2017
BEGIN:VEVENT
DTSTART:20171111T090000
DTEND:20171111T120000
SUMMARY:La science est un jeu d’enfant (6h) &#8211; Nov. 2017
DESCRIPTION:Ce cours «La science est un jeu d’enfant» est un atelier qui a pour but de sensibiliser l’éducatrice à la mise en place d’un coin-science. Ce coin permet d’assouvir la curiosité de l’enfant par des activités d’éveil scientifique. À travers ces activités, l’enfant observe, découvre, explore, manipule, s’interroge sur l’environnement qui l’entoure (être vivant, matière, etc.).
LOCATION:
END:VEVENT
END:VCALENDAR
