BEGIN:VCALENDAR
VERSION:2.0
PRODID:-//Centre de Formation &Eacute;ducation en Petite Enfance.
CALSCALE:GREGORIAN
METHOD:PUBLISH
X-WR-CALNAME:Centre de Formation &Eacute;ducation en Petite Enfance.
X-ORIGINAL-URL:https://www.cfeducationpetiteenfance.com/product/cours-sur-commande/
X-WR-CALDESC:Cours sur commande
BEGIN:VEVENT
DTSTART:
DTEND:
SUMMARY:Cours sur commande
DESCRIPTION:<h4>Les cours sur commande répondent aux besoins spécifiques de chaque garderie.</h4>
<h4>Identifier votre besoin nous faisons le reste.</h4>
<h4>Nous pouvons aussi vous aidez à identifier et analyser votre besoin de formation.</h4>
<h4>Ex.</h4>
<ul>
 	<li>
<h4>Étude de satisfaction des clients parents</h4>
</li>
 	<li>
<h4>Améliorer les habiletés des éducatrices</h4>
</li>
 	<li>
<h4>Objectifs de formation</h4>
</li>
 	<li>
<h4>....</h4>
</li>
</ul>
<h4></h4>
LOCATION:
END:VEVENT
END:VCALENDAR
