BEGIN:VCALENDAR
VERSION:2.0
PRODID:-//Centre de Formation &Eacute;ducation en Petite Enfance.
CALSCALE:GREGORIAN
METHOD:PUBLISH
X-WR-CALNAME:Centre de Formation &Eacute;ducation en Petite Enfance.
X-ORIGINAL-URL:https://www.cfeducationpetiteenfance.com/product/formation-45-h-avril-2018/
X-WR-CALDESC:Formation 45h RSG &#8211; Avril 2018
BEGIN:VEVENT
DTSTART:20180401T080000
DTEND:20180401T173000
SUMMARY:Formation 45h RSG &#8211; Avril 2018
DESCRIPTION:<ul>
 	<li><strong>La profession RSG : 6h</strong></li>
 	<li><strong>Développement de l’enfant de 0 à 12 ans  : 12h</strong></li>
 	<li><strong>Programme éducatif : 18h</strong></li>
 	<li><strong>Santé : 3h</strong></li>
 	<li><strong>Alimentation : 3h</strong></li>
 	<li><strong>Sécurité et hygiene  : 3h</strong></li>
</ul>
LOCATION:
END:VEVENT
END:VCALENDAR
