BEGIN:VCALENDAR
VERSION:2.0
PRODID:-//Centre de Formation &Eacute;ducation en Petite Enfance.
CALSCALE:GREGORIAN
METHOD:PUBLISH
X-WR-CALNAME:Centre de Formation &Eacute;ducation en Petite Enfance.
X-ORIGINAL-URL:https://www.cfeducationpetiteenfance.com/product/conference/
X-WR-CALDESC:Conférence le 22 novembre 2022 : Que fait votre enfant dans la garderie ?
BEGIN:VEVENT
DTSTART:20221122T000000
DTEND:20221122T000000
SUMMARY:Conférence le 22 novembre 2022 : Que fait votre enfant dans la garderie ?
DESCRIPTION:<ul>
 	<li dir="ltr" role="presentation"><span style="color: #808080;">Se familiariser avec le déroulement de la journée de l'enfant</span></li>
 	<li dir="ltr" role="presentation"><span style="color: #808080;">Collaborer avec l'éducatrice </span></li>
 	<li dir="ltr" role="presentation"><span style="color: #808080;">Contribuer adéquatement au développement global de son enfant. </span></li>
 	<li dir="ltr" role="presentation"><span style="color: #808080;">Connaître l'enfant pour répondre à ses besoins. </span></li>
 	<li dir="ltr" role="presentation"><span style="color: #808080;">Participer activement à son éducation.</span></li>
 	<li dir="ltr" role="presentation"><span style="color: #808080;">L'accompagner dans son processus de développement</span></li>
</ul>
<pre></pre>
LOCATION:
END:VEVENT
END:VCALENDAR
